BEGIN:VCALENDAR
VERSION:2.0
PRODID:-//eventon.com NONSGML v1.0//EN
CALSCALE:GREGORIAN
METHOD:PUBLISH
BEGIN:VEVENT
UID:69ea1fc7bb1a1
DTSTAMP:20260423T133359Z
DTSTART:20260424T223000Z
DTEND:20260425T010000Z
LOCATION:
SUMMARY:Second Half Movie Night
DESCRIPTION:Join us on Friday\,  April 24 at 6:30 pm\,  the movie will star
 t at 7:00 pm. &nbsp; Parishioners are inviting us to their home theater t
 hat can accommodate 30 people\,  so please RSVP below to easily register 
 (and receive a confirmation email) since we’ll cap this event at 30 peop
 le.  The event location remains the[..]\nhttps://redeemer-cincy.org/events
 /second-half-movie-night/
URL:https://redeemer-cincy.org/events/second-half-movie-night/
END:VEVENT
END:VCALENDAR