BEGIN:VCALENDAR
VERSION:2.0
PRODID:-//eventon.com NONSGML v1.0//EN
CALSCALE:GREGORIAN
METHOD:PUBLISH
BEGIN:VEVENT
UID:69ea35b8de12a
DTSTAMP:20260423T150736Z
DTSTART:20260503T220000Z
DTEND:20260503T233000Z
LOCATION:
SUMMARY:Theology Circle Monthly Meeting
DESCRIPTION:Please join us the first Sunday of each month at 6:00 pm on ZOO
 M as we gather to discuss books we are currently studying. This month we co
 ntinue our discussion of Wendell Berry&#8217;s &#8220;The Memory of Old Jac
 k After that we will start &#8220;The Road to Eternal Life&#8221; by Micha
 el Casey\, [..]\nhttps://redeemer-cincy.org/events/theology-circle-monthly-
 meeting/var/event_access
URL:https://redeemer-cincy.org/events/theology-circle-monthly-meeting/var/event_access
END:VEVENT
END:VCALENDAR