BEGIN:VCALENDAR
VERSION:2.0
PRODID:-//eventon.com NONSGML v1.0//EN
CALSCALE:GREGORIAN
METHOD:PUBLISH
BEGIN:VEVENT
UID:69ea3580429a1
DTSTAMP:20260423T150640Z
DTSTART:20251010T120000Z
DTEND:20251012T190000Z
LOCATION:Procter Camp &amp; Conference Center 11235 OH-38\,  London\,  OH 43140
SUMMARY:DSO Fall Youth Retreat
DESCRIPTION:Fall Retreat will be happening at Procter Camp and Conference C
 enter on October 10-12\,  2025! This retreat is open to 6th-12th grade stud
 ents\,  and it promises to be a weekend full of typical Procter fun that ev
 eryone enjoys. To get started: RSVP that your child is interested using our
  Redeemer[..]\nhttps://redeemer-cincy.org/events/dso-fall-youth-retreat/
URL:https://redeemer-cincy.org/events/dso-fall-youth-retreat/
END:VEVENT
END:VCALENDAR