BEGIN:VCALENDAR
VERSION:2.0
PRODID:-//eventon.com NONSGML v1.0//EN
CALSCALE:GREGORIAN
METHOD:PUBLISH
BEGIN:VEVENT
UID:69ea35b9d0815
DTSTAMP:20260423T150737Z
DTSTART:20250911T220000Z
DTEND:20250911T224500Z
LOCATION:Episcopal Church of the Redeemer 2944 Erie Ave. Cincinnati\,  OH 45208
SUMMARY:Handbell Choir Rehearsal
DESCRIPTION:Rehearsals for our Handbell Choir are starting back up on Septe
 mber 11 at 6:00 pm! We welcome anyone High-School aged and up with music-re
 ading ability (preferred but not required). If you would like to join us\, 
  please use the button below to register. We plan to rehearse twice monthly
  on[..]\nhttps://redeemer-cincy.org/events/handbell-choir-rehearsal/
URL:https://redeemer-cincy.org/events/handbell-choir-rehearsal/
END:VEVENT
END:VCALENDAR