BEGIN:VCALENDAR
VERSION:2.0
PRODID:-//eventon.com NONSGML v1.0//EN
CALSCALE:GREGORIAN
METHOD:PUBLISH
BEGIN:VEVENT
UID:69ea35e27931b
DTSTAMP:20260423T150818Z
DTSTART:20251102T220000Z
DTEND:20251102T230000Z
LOCATION:Episcopal Church of the Redeemer 2944 Erie Ave. Cincinnati\,  OH 45208
SUMMARY:All Souls/All Saints Evensong
DESCRIPTION:Join us on Sunday\,  November 2 at 5:00 pm in the Sanctuary for
  our All Souls/All Saints Evensong. The combined parish choirs of Church of
  the Redeemer and St. Thomas Episcopal Church present a special evensong in
  honor of the Feasts of All Souls and All Saints. The featured work[..]\nht
 tps://redeemer-cincy.org/events/all-souls-all-saints-evensong/
URL:https://redeemer-cincy.org/events/all-souls-all-saints-evensong/
END:VEVENT
END:VCALENDAR