BEGIN:VCALENDAR
VERSION:2.0
PRODID:-//eventon.com NONSGML v1.0//EN
CALSCALE:GREGORIAN
METHOD:PUBLISH
BEGIN:VEVENT
UID:69ea30e6637e1
DTSTAMP:20260423T144702Z
DTSTART:20251012T190000Z
DTEND:20251012T203000Z
LOCATION:Episcopal Church of the Redeemer 2944 Erie Ave. Cincinnati\,  OH 45208
SUMMARY:Music of the Mystics
DESCRIPTION:Join us for a Music of the Mystics concert with Church of the R
 edeemer&#8217;s featured group\,  Heri et Hodie on Sunday\,  October 12 at 
 3:00pm in the Sanctuary. Heri et Hodie has a special focus on curating musi
 cal events that are inclusive of community musicians\,  either members of t
 he parish[..]\nhttps://redeemer-cincy.org/events/music-of-the-mystics/
URL:https://redeemer-cincy.org/events/music-of-the-mystics/
END:VEVENT
END:VCALENDAR