BEGIN:VCALENDAR
VERSION:2.0
PRODID:-//eventon.com NONSGML v1.0//EN
CALSCALE:GREGORIAN
METHOD:PUBLISH
BEGIN:VEVENT
UID:69ea340f59377
DTSTAMP:20260423T150031Z
DTSTART:20260222T200000Z
DTEND:20260222T220000Z
LOCATION:Episcopal Church of the Redeemer 2944 Erie Ave. Cincinnati\,  OH 45208
SUMMARY:Lenten Choral Offering
DESCRIPTION:Join us on Sunday\,  February 22\,  2026 at 3:00 pm in the Sanc
 tuary for a Lenten Choral Offering. The Church of the Redeemer Choir and Mu
 sica Sacra Cincinnati\,  one of Church of the Redeemer’s featured ensembl
 es\,  combine to present a choral offering to mark the beginning of the Len
 ten Season.[..]\nhttps://redeemer-cincy.org/events/lenten-choral-offering/
URL:https://redeemer-cincy.org/events/lenten-choral-offering/
END:VEVENT
END:VCALENDAR