BEGIN:VCALENDAR
VERSION:2.0
PRODID:-//eventon.com NONSGML v1.0//EN
CALSCALE:GREGORIAN
METHOD:PUBLISH
BEGIN:VEVENT
UID:69ea30e6de8a9
DTSTAMP:20260423T144702Z
DTSTART:20260430T230000Z
DTEND:20260501T010000Z
LOCATION:Episcopal Church of the Redeemer 2944 Erie Ave. Cincinnati\,  OH 45208
SUMMARY:Hyde Park Church Collective Choral Festival
DESCRIPTION:Join us for this special joint event on Thursday\,  April 30\, 
  2026 at 7:00 pm in the Sanctuary. Choirs from the Hyde Park Church Collect
 ive come together in a celebration of liturgical music from different denom
 inations\,  concluding with anthems sung by the combined choirs.\nhttps://r
 edeemer-cincy.org/events/hyde-park-church-collective-choral-festival/
URL:https://redeemer-cincy.org/events/hyde-park-church-collective-choral-festival/
END:VEVENT
END:VCALENDAR