BEGIN:VCALENDAR
VERSION:2.0
PRODID:-//eventon.com NONSGML v1.0//EN
CALSCALE:GREGORIAN
METHOD:PUBLISH
BEGIN:VEVENT
UID:69ea30e615d17
DTSTAMP:20260423T144702Z
DTSTART:20260423T000000Z
DTEND:20260423T013000Z
LOCATION:Episcopal Church of the Redeemer 2944 Erie Ave. Cincinnati\,  OH 45208
SUMMARY:German Choral Classics
DESCRIPTION:Join us for this performance by the College-Conservatory of Mus
 ic Chorale on Wednesday\,  April 22 at 8:00 pm in the Sanctuary. The Univer
 sity of Cincinnati&#8217;s College-Conservatory of Music Chorale will prese
 nt choral masterworks from Germany\,  both historical and contemporary\,  u
 nder the direction of guest artist Andreas Herrmann\,  who is faculty[..]\n
 https://redeemer-cincy.org/events/german-choral-classics/
URL:https://redeemer-cincy.org/events/german-choral-classics/
END:VEVENT
END:VCALENDAR