BEGIN:VCALENDAR
VERSION:2.0
PRODID:-//eventon.com NONSGML v1.0//EN
CALSCALE:GREGORIAN
METHOD:PUBLISH
BEGIN:VEVENT
UID:69ea3602af1cd
DTSTAMP:20260423T150850Z
DTSTART:20251005T160000Z
DTEND:20251005T180000Z
LOCATION:Knox Church 3400 Michigan Avenue
SUMMARY:Photo Scavenger Hunt
DESCRIPTION:The Hyde Park Collective is inviting 6th-12th grade students fr
 om Church of the Redeemer\,  Knox Presbyterian\,  and Hyde Park UMC for a P
 hoto Scavenger Hunt event on Sunday\,  October 5\,  starting at 12:00 pm! W
 e will meet at Knox Church (corner of Observatory &amp; Michigan). Be sure 
 to RSVP so[..]\nhttps://redeemer-cincy.org/events/photo-scavenger-hunt/
URL:https://redeemer-cincy.org/events/photo-scavenger-hunt/
END:VEVENT
END:VCALENDAR