BEGIN:VCALENDAR
VERSION:2.0
PRODID:-//eventon.com NONSGML v1.0//EN
CALSCALE:GREGORIAN
METHOD:PUBLISH
BEGIN:VEVENT
UID:69ea359a133e8
DTSTAMP:20260423T150706Z
DTSTART:20251108T190000Z
DTEND:20251108T233000Z
LOCATION:Spring Grove Cemetery and Arboretum 4521 Spring Grove Ave
SUMMARY:Second Half American Sign Museum Trip
DESCRIPTION:Meet at The American Sign Museum at 1330 Monmouth Avenue on Sat
 urday\,  November 8. Arrive any time before 2:00 with your admittance fee (
 $20 for adults / $15 seniors 65+) may include a Public Tour at 2:00 pm and 
 a Neon Demonstration at 3:00 pm\,  but the museum closes at[..]\nhttps://re
 deemer-cincy.org/events/second-half-american-sign-museum-trip/
URL:https://redeemer-cincy.org/events/second-half-american-sign-museum-trip/
END:VEVENT
END:VCALENDAR