BEGIN:VCALENDAR
VERSION:2.0
PRODID:-//eventon.com NONSGML v1.0//EN
CALSCALE:GREGORIAN
METHOD:PUBLISH
BEGIN:VEVENT
UID:69ea35b958de7
DTSTAMP:20260423T150737Z
DTSTART:20260117T210000Z
DTEND:20260118T030000Z
LOCATION:
SUMMARY:Second Half Christmas Party
DESCRIPTION:Christmas Party at Bennett’s home!&nbsp;&nbsp;You can arrive 
 any time after 4:00 pm and we’ll plan to eat around 5:30-6:00 pm with the
  party winding down by 10:00.&nbsp; Jim Bennett’s hobby is grilling and s
 moking\,  so Jim and Christine are graciously hosting us again and providin
 g the BBQ meat.&nbsp; You need[..]\nhttps://redeemer-cincy.org/events/secon
 d-half-christmas-party/
URL:https://redeemer-cincy.org/events/second-half-christmas-party/
END:VEVENT
END:VCALENDAR