BEGIN:VCALENDAR
VERSION:2.0
PRODID:-//eventon.com NONSGML v1.0//EN
CALSCALE:GREGORIAN
METHOD:PUBLISH
BEGIN:VEVENT
UID:69ea358703b4f
DTSTAMP:20260423T150647Z
DTSTART:20260211T233000Z
DTEND:20260212T010000Z
LOCATION:Episcopal Church of the Redeemer 2944 Erie Ave. Cincinnati\,  OH 45208
SUMMARY:Second Half Speaker - We Never Planned to be Missionaries
DESCRIPTION:Join Second Half of Life on&nbsp;Wednesday\,  February 11&nbsp;
 as we welcome back long-time missionaries from the Dominican Republic. Feel
  free to bring finger food to share and your own drinks at&nbsp;6:30 pm&nbs
 p;in the&nbsp;Great Hall.&nbsp; Dr. Anita Dohn and Dr. Mickey Dohn\,  will 
 share their insightful story “We never planned to be[..]\nhttps://redeeme
 r-cincy.org/events/second-half-speaker-we-never-planned-to-be-missionaries/
 var/event_access
URL:https://redeemer-cincy.org/events/second-half-speaker-we-never-planned-to-be-missionaries/var/event_access
END:VEVENT
END:VCALENDAR