BEGIN:VCALENDAR
VERSION:2.0
PRODID:-//eventon.com NONSGML v1.0//EN
CALSCALE:GREGORIAN
METHOD:PUBLISH
BEGIN:VEVENT
UID:69ea35867f04d
DTSTAMP:20260423T150646Z
DTSTART:20260308T220000Z
DTEND:20260309T000000Z
LOCATION:Episcopal Church of the Redeemer 2944 Erie Ave. Cincinnati\,  OH 45208
SUMMARY:Second Half Speaker - Out of Africa: 21 Years of Reforming Government Financial Systems
DESCRIPTION:Join Second Half of Life on&nbsp;Sunday\,  March 8 at 6:00 pm. 
 We&#8217;ll start with a potluck dinner at 6:00 pm&nbsp;in the&nbsp;Great H
 all so bring a dish to share and your own drinks.&nbsp; After dinner\, &nbs
 p;around 7:00PM\,  our very own&nbsp;Steve Peterson&nbsp;(Ph.D. MBA) will d
 eliver his interesting presentation: “Out of Africa: 21 Years[..]\nhttps:
 //redeemer-cincy.org/events/second-half-speaker-out-of-africa-21-years-of-r
 eforming-government-financial-systems/var/event_access
URL:https://redeemer-cincy.org/events/second-half-speaker-out-of-africa-21-years-of-reforming-government-financial-systems/var/event_access
END:VEVENT
END:VCALENDAR