BEGIN:VCALENDAR
VERSION:2.0
PRODID:-//eventon.com NONSGML v1.0//EN
CALSCALE:GREGORIAN
METHOD:PUBLISH
BEGIN:VEVENT
UID:69ea359a13412
DTSTAMP:20260423T150706Z
DTSTART:20251026T161500Z
DTEND:20251026T173000Z
LOCATION:Episcopal Church of the Redeemer 2944 Erie Ave. Cincinnati\,  OH 45208
SUMMARY:Family Ministry Pumpkin Carving Party
DESCRIPTION:All families are invited to join us for our annual Pumpkin Carv
 ing Party on Sunday\,  October 26\,  2025 beginning at 12:15pm. Lunch will 
 be provided as well as pumpkins for families to decorate and carve! Be sure
  to RSVP so we have enough food and pumpkins for everyone. RSVP Here\nhttps
 ://redeemer-cincy.org/events/family-ministry-pumpkin-carving-party/
URL:https://redeemer-cincy.org/events/family-ministry-pumpkin-carving-party/
END:VEVENT
END:VCALENDAR