BEGIN:VCALENDAR
VERSION:2.0
PRODID:-//eventon.com NONSGML v1.0//EN
CALSCALE:GREGORIAN
METHOD:PUBLISH
BEGIN:VEVENT
UID:69ea359acbcf8
DTSTAMP:20260423T150706Z
DTSTART:20260102T230000Z
DTEND:20260103T120000Z
LOCATION:Episcopal Church of the Redeemer 2944 Erie Ave. Cincinnati\,  OH 45208
SUMMARY:DSO Youth Lock In
DESCRIPTION:All 6th-12th-grade students across the diocese are invited to j
 oin us for our second DSO Youth Lock-in on January 2-3\,  2026\,  hosted by
  Church of the Redeemer. Students can arrive at Church of the Redeemer star
 ting at 6pm on Friday\,  January 2\,  and be picked up at 7am on Saturday\,
  [..]\nhttps://redeemer-cincy.org/events/dso-youth-lock-in/
URL:https://redeemer-cincy.org/events/dso-youth-lock-in/
END:VEVENT
END:VCALENDAR