BEGIN:VCALENDAR
VERSION:2.0
PRODID:-//eventon.com NONSGML v1.0//EN
CALSCALE:GREGORIAN
METHOD:PUBLISH
BEGIN:VEVENT
UID:69ea3602af1cd
DTSTAMP:20260423T150850Z
DTSTART:20260117T150000Z
DTEND:20260117T200000Z
LOCATION:Procter Camp &amp; Conference Center 11235 OH-38\,  London\,  OH 43140
SUMMARY:Epiphany Offerings at Procter
DESCRIPTION:Looking for ways to celebrate Epiphany AND support Procter Camp
 ? Check out Procter&#8217;s Epiphany offerings! Be sure to check out the de
 tails for their Epiphany Quiet Day on January 17 along with the opportunity
  to purchase King Cakes made by Procter&#8217;s very own chef\,  Xandra Sha
 rpe. All proceeds from King[..]\nhttps://redeemer-cincy.org/events/epiphany
 -offerings-at-procter/
URL:https://redeemer-cincy.org/events/epiphany-offerings-at-procter/
END:VEVENT
END:VCALENDAR