BEGIN:VCALENDAR
VERSION:2.0
PRODID:-//eventon.com NONSGML v1.0//EN
CALSCALE:GREGORIAN
METHOD:PUBLISH
BEGIN:VEVENT
UID:69ea35863b249
DTSTAMP:20260423T150646Z
DTSTART:20260213T203000Z
DTEND:20260215T120000Z
LOCATION:Episcopal Church of the Redeemer 2944 Erie Ave. Cincinnati\,  OH 45208
SUMMARY:Winter Youth Retreat
DESCRIPTION:Youth in 6th-12th grade are invited to Procter’s Winter Youth
  Retreat on February 13! Together\,  we&#8217;ll explore how our unique per
 sonality types show God’s love of diversity and God’s purpose in our li
 ves. Through personality tests and other fun reflection activities\,  we’
 ll discover the strengths and quirks that make us[..]\nhttps://redeemer-cin
 cy.org/events/winter-youth-retreat/
URL:https://redeemer-cincy.org/events/winter-youth-retreat/
END:VEVENT
END:VCALENDAR