BEGIN:VCALENDAR
VERSION:2.0
PRODID:-//eventon.com NONSGML v1.0//EN
CALSCALE:GREGORIAN
METHOD:PUBLISH
BEGIN:VEVENT
UID:69ea30e6134e4
DTSTAMP:20260423T144702Z
DTSTART:20250527T230000Z
DTEND:20250528T000000Z
LOCATION:https://meet.google.com/ocj-pcza-hpw
SUMMARY:Creation Care Monthly Meeting
DESCRIPTION:Join us every 3rd Wednesday on ZOOM to discuss upcoming events 
 and projects. Everyone is welcome and encouraged to participate. Our Creati
 on Care Team will work to educate our church and the surrounding community 
 on the effects of climate change and actively participate and engage in way
 s to prevent and[..]\nhttps://redeemer-cincy.org/events/creation-care-month
 ly-meeting/var/event_access
URL:https://redeemer-cincy.org/events/creation-care-monthly-meeting/var/event_access
END:VEVENT
END:VCALENDAR