BEGIN:VCALENDAR
VERSION:2.0
PRODID:-//eventon.com NONSGML v1.0//EN
CALSCALE:GREGORIAN
METHOD:PUBLISH
BEGIN:VEVENT
UID:69ea35e2062a7
DTSTAMP:20260423T150818Z
DTSTART:20260321T220000Z
DTEND:20260322T000000Z
LOCATION:Slatts Pub and Grill in Blue Ash 4858 Cooper Road
SUMMARY:Second Half of Life Social
DESCRIPTION:We’d love for you to join us for a relaxed dinner and social 
 evening at Slatts Pub and Grill in Blue Ash 4858 Cooper Rd 45242! If you’
 re curious about the Second Half group or looking to make new friends and c
 onnect outside of church\,  please join us. We’ll have[..]\nhttps://redee
 mer-cincy.org/events/second-half-of-life-social/
URL:https://redeemer-cincy.org/events/second-half-of-life-social/
END:VEVENT
END:VCALENDAR