BEGIN:VCALENDAR
VERSION:2.0
PRODID:-//eventon.com NONSGML v1.0//EN
CALSCALE:GREGORIAN
METHOD:PUBLISH
BEGIN:VEVENT
UID:69ea35e1ed5e3
DTSTAMP:20260423T150817Z
DTSTART:20260411T140000Z
DTEND:20260411T160000Z
LOCATION:Music Hall 1241 Elm St.
SUMMARY:Second Half Music Hall Tour
DESCRIPTION:Join us on Saturday\,  April 11 at 10:00 am for an indoor priva
 te tour of Music Hall\,  our world-class historical landmark. Plan to meet 
 at Music Hall (1241 Elm St 45202) near the Box Office by 9:45 to pay Cynthi
 a Walker or Dawn Neely $16/ticket via cash or check because[..]\nhttps://re
 deemer-cincy.org/events/second-half-music-hall-tour/
URL:https://redeemer-cincy.org/events/second-half-music-hall-tour/
END:VEVENT
END:VCALENDAR