BEGIN:VCALENDAR
VERSION:2.0
PRODID:-//eventon.com NONSGML v1.0//EN
CALSCALE:GREGORIAN
METHOD:PUBLISH
BEGIN:VEVENT
UID:69ea359a53d0b
DTSTAMP:20260423T150706Z
DTSTART:20260426T120000Z
DTEND:20260426T163000Z
LOCATION:Episcopal Church of the Redeemer 2944 Erie Ave. Cincinnati\,  OH 45208
SUMMARY:Procter Fest
DESCRIPTION:Save the Date! Sunday April 26th\,  2026 Jerusalem Greer will b
 e preaching at all services and leading an adult forum at 10AM Procter staf
 f will be leading Kids Chapel and family ministry formation at 10AM Procter
  product and swag will be available to purchase\nhttps://redeemer-cincy.org
 /events/procter-fest/
URL:https://redeemer-cincy.org/events/procter-fest/
END:VEVENT
END:VCALENDAR