BEGIN:VCALENDAR
VERSION:2.0
PRODID:-//eventon.com NONSGML v1.0//EN
CALSCALE:GREGORIAN
METHOD:PUBLISH
BEGIN:VEVENT
UID:69ea35e302ff9
DTSTAMP:20260423T150819Z
DTSTART:20260822T130000Z
DTEND:20260822T180000Z
LOCATION:Episcopal Church of the Redeemer 2944 Erie Ave. Cincinnati\,  OH 45208
SUMMARY:Redeemer All Ministry Training Day
DESCRIPTION:In person training event for all Redeemer ministries. Morning t
 ime will consist of Safe Church training that all folks in any ministry nee
 d as well as any Redeemer specific information (ex. Where programming is ha
 ppening for the upcoming program year\,  building use policies\,  communica
 tion submission needs for anyministry updates/programming\,  etc&#8230;)[..
 ]\nhttps://redeemer-cincy.org/events/redeemer-all-ministry-training-day/
URL:https://redeemer-cincy.org/events/redeemer-all-ministry-training-day/
END:VEVENT
END:VCALENDAR