BEGIN:VCALENDAR
VERSION:2.0
PRODID:-//eventon.com NONSGML v1.0//EN
CALSCALE:GREGORIAN
METHOD:PUBLISH
BEGIN:VEVENT
UID:69ea35b8dd826
DTSTAMP:20260423T150736Z
DTSTART:20260531T160000Z
DTEND:20260531T220000Z
LOCATION:Episcopal Church of the Redeemer 2944 Erie Ave. Cincinnati\,  OH 45208
SUMMARY:DSO End of School Year Event
DESCRIPTION:Join youth from across the diocese for an end-of-the-school-yea
 r celebration at Kings Island in Mason on Sunday May 31st from 12-6 pm! Weâ
 €™ll spend time together focused on fun and fellowship\,  a chance to give 
 thanks for the hard work of the last school year\,  and look ahead to summe
 r![..]\nhttps://redeemer-cincy.org/events/dso-end-of-school-year-event/
URL:https://redeemer-cincy.org/events/dso-end-of-school-year-event/
END:VEVENT
END:VCALENDAR