BEGIN:VCALENDAR
VERSION:2.0
PRODID:-//eventon.com NONSGML v1.0//EN
CALSCALE:GREGORIAN
METHOD:PUBLISH
BEGIN:VEVENT
UID:69ea360316d1c
DTSTAMP:20260423T150851Z
DTSTART:20260525T110000Z
DTEND:20260525T160000Z
LOCATION:Start line on Mehring Way
SUMMARY:MEAC Fundraiser w/FreeStore Foodbank Hunger Walk & 5K Run
DESCRIPTION:Join us in supporting MEAC by donating or signing up to be part
  of MEAC’s team for the FreeStore Foodbank Hunger 5K Walk &amp; Run on Ma
 y 25th. Meet at the start line on Mehring Way. Church of the Redeemer will 
 match donations and registration fees up to $1\, 000 for[..]\nhttps://redee
 mer-cincy.org/events/__trashed/
URL:https://redeemer-cincy.org/events/__trashed/
END:VEVENT
END:VCALENDAR