BEGIN:VCALENDAR
VERSION:2.0
PRODID:-//eventon.com NONSGML v1.0//EN
CALSCALE:GREGORIAN
METHOD:PUBLISH
BEGIN:VEVENT
UID:69ea1fc806901
DTSTAMP:20260423T133400Z
DTSTART:20260520T223000Z
DTEND:20260521T000000Z
LOCATION:
SUMMARY:Second Half of Life: A Kenyan Safari- It's Much More than Amazing Animals!
DESCRIPTION:We welcome our very own Mike Hardy to present “A Kenyan Safar
 i – it’s much more than amazing animals!” In addition\,  our special 
 guests will be fellow parishioners Wendy and Peter Twycross who spoke to us
  in May 2025 about their missionary work in Kenya. Beautiful pictures and v
 ideos will[..]\nhttps://redeemer-cincy.org/events/second-half-of-life-a-ken
 yan-safari-its-much-more-than-amazing-animals/
URL:https://redeemer-cincy.org/events/second-half-of-life-a-kenyan-safari-its-much-more-than-amazing-animals/
END:VEVENT
END:VCALENDAR