BEGIN:VCALENDAR
VERSION:2.0
PRODID:-//eventon.com NONSGML v1.0//EN
CALSCALE:GREGORIAN
METHOD:PUBLISH
BEGIN:VEVENT
UID:69ea1f99691b1
DTSTAMP:20260423T133313Z
DTSTART:20260815T200000Z
DTEND:20260816T020000Z
LOCATION:
SUMMARY:Second Half of Life: Bennett's BBQ
DESCRIPTION:Sat\,  August 15 – Cookout at Jim and Christine Bennett’s h
 ouse.Arrive any time after 4:00 PM; we’ll eat around 5:30–6:00 PM\,  wi
 th the party winding down by 10:00 PM. Jim Bennett\,  an avid griller and s
 moker\,  will provide the BBQ entrée. Please bring a dish to share and wha
 tever you’d[..]\nhttps://redeemer-cincy.org/events/second-half-of-life-be
 nnetts-bbq/
URL:https://redeemer-cincy.org/events/second-half-of-life-bennetts-bbq/
END:VEVENT
END:VCALENDAR