BEGIN:VCALENDAR
VERSION:2.0
PRODID:-//eventon.com NONSGML v1.0//EN
CALSCALE:GREGORIAN
METHOD:PUBLISH
BEGIN:VEVENT
UID:69ea3580427e5
DTSTAMP:20260423T150640Z
DTSTART:20260107T233000Z
DTEND:20260108T010000Z
LOCATION:Episcopal Church of the Redeemer 2944 Erie Ave. Cincinnati\,  OH 45208
SUMMARY:Second Half Speaker - Bill Killen
DESCRIPTION:Join Second Half of Life on Wednesday\,  January 7 for our re
 turning speaker Bill Killen presenting “Entrepreneur\,  Philanthropist\, 
  Visionary: The Jacob Schmidlapp Story” Feel free to bring finger food to
  share and your own drinks at 6:30 pm in the Great Hall.  Bill’s hist
 oric story will start around 7:15PM in the parlor. Many of us know the[..
 ]\nhttps://redeemer-cincy.org/events/second-half-speaker-bill-killen/var/ev
 ent_access
URL:https://redeemer-cincy.org/events/second-half-speaker-bill-killen/var/event_access
END:VEVENT
END:VCALENDAR