BEGIN:VCALENDAR
VERSION:2.0
PRODID:-//eventon.com NONSGML v1.0//EN
CALSCALE:GREGORIAN
METHOD:PUBLISH
BEGIN:VEVENT
UID:69ea35863b248
DTSTAMP:20260423T150646Z
DTSTART:20251108T140000Z
DTEND:20251108T180000Z
LOCATION:Episcopal Church of the Redeemer 2944 Erie Ave. Cincinnati\,  OH 45208
SUMMARY:Communion 101
DESCRIPTION:Communion 101 is an interactive event about the sacrament of th
 e Eucharist for 2nd through 12th graders. Our goal is to generate understan
 ding about why we do what we do around the altar when we worship as Episcop
 alians. We’ll travel around the church\,  visit the holy spaces where min
 istries happen\, [..]\nhttps://redeemer-cincy.org/events/communion-101/
URL:https://redeemer-cincy.org/events/communion-101/
END:VEVENT
END:VCALENDAR